BEGIN:VCALENDAR
VERSION:2.0
PRODID:-//The 3 Churches - ECPv6.15.20//NONSGML v1.0//EN
CALSCALE:GREGORIAN
METHOD:PUBLISH
X-ORIGINAL-URL:https://the3churches.org.uk
X-WR-CALDESC:Events for The 3 Churches
REFRESH-INTERVAL;VALUE=DURATION:PT1H
X-Robots-Tag:noindex
X-PUBLISHED-TTL:PT1H
BEGIN:VTIMEZONE
TZID:UTC
BEGIN:STANDARD
TZOFFSETFROM:+0000
TZOFFSETTO:+0000
TZNAME:UTC
DTSTART:20230101T000000
END:STANDARD
END:VTIMEZONE
BEGIN:VEVENT
DTSTART;TZID=UTC:20240630T110000
DTEND;TZID=UTC:20240630T120000
DTSTAMP:20260424T044949
CREATED:20240615T102707Z
LAST-MODIFIED:20240615T102707Z
UID:14258-1719745200-1719748800@the3churches.org.uk
SUMMARY:Bretherton St John’s Coffee Morning
DESCRIPTION:Bretherton St John’s Coffee Morning 30 th June at Bretherton Endowed Primary School\nJoin us at 11am (after the joint United Benefice service) in the school hall for refreshments to raise funds for the 3 churches.
URL:https://the3churches.org.uk/event/bretherton-st-johns-coffee-morning/
LOCATION:Bretherton St John’s
ATTACH;FMTTYPE=image/jpeg:https://the3churches.org.uk/wp-content/uploads/2024/05/coffee.jpg
END:VEVENT
END:VCALENDAR