BEGIN:VCALENDAR
VERSION:2.0
PRODID:-//The 3 Churches - ECPv6.15.20//NONSGML v1.0//EN
CALSCALE:GREGORIAN
METHOD:PUBLISH
X-ORIGINAL-URL:https://the3churches.org.uk
X-WR-CALDESC:Events for The 3 Churches
REFRESH-INTERVAL;VALUE=DURATION:PT1H
X-Robots-Tag:noindex
X-PUBLISHED-TTL:PT1H
BEGIN:VTIMEZONE
TZID:UTC
BEGIN:STANDARD
TZOFFSETFROM:+0000
TZOFFSETTO:+0000
TZNAME:UTC
DTSTART:20230101T000000
END:STANDARD
END:VTIMEZONE
BEGIN:VEVENT
DTSTART;VALUE=DATE:20241005
DTEND;VALUE=DATE:20241006
DTSTAMP:20260423T225701
CREATED:20240116T212120Z
LAST-MODIFIED:20240615T101620Z
UID:13514-1728086400-1728172799@the3churches.org.uk
SUMMARY:Wedding Service 5th-October-2024
DESCRIPTION:The marriage of  Michelle Villaverde and Mark Galliers will take place at Croston\, St Michael’s on the 5th October. \n 
URL:https://the3churches.org.uk/event/wedding-service-5th-october-2024/
CATEGORIES:Bretherton,Croston,Mawdesley,Wedding
ATTACH;FMTTYPE=image/webp:https://the3churches.org.uk/wp-content/uploads/2024/01/wedding-e1718445638844.webp
END:VEVENT
BEGIN:VEVENT
DTSTART;TZID=UTC:20241005T190000
DTEND;TZID=UTC:20241005T213000
DTSTAMP:20260423T225701
CREATED:20240110T214443Z
LAST-MODIFIED:20240110T214443Z
UID:13425-1728154800-1728163800@the3churches.org.uk
SUMMARY:Harvest Supper
DESCRIPTION:Please join us for a delicious harvest supper in Croston Old School.
URL:https://the3churches.org.uk/event/harvest-supper/
CATEGORIES:Bretherton,Croston,Mawdesley
END:VEVENT
END:VCALENDAR