BEGIN:VCALENDAR
VERSION:2.0
PRODID:-//The 3 Churches - ECPv6.15.20//NONSGML v1.0//EN
CALSCALE:GREGORIAN
METHOD:PUBLISH
X-WR-CALNAME:The 3 Churches
X-ORIGINAL-URL:https://the3churches.org.uk
X-WR-CALDESC:Events for The 3 Churches
REFRESH-INTERVAL;VALUE=DURATION:PT1H
X-Robots-Tag:noindex
X-PUBLISHED-TTL:PT1H
BEGIN:VTIMEZONE
TZID:UTC
BEGIN:STANDARD
TZOFFSETFROM:+0000
TZOFFSETTO:+0000
TZNAME:UTC
DTSTART:20230101T000000
END:STANDARD
END:VTIMEZONE
BEGIN:VEVENT
DTSTART;TZID=UTC:20241013T091500
DTEND;TZID=UTC:20241013T120000
DTSTAMP:20260424T002718
CREATED:20241005T204457Z
LAST-MODIFIED:20241005T204457Z
UID:14713-1728810900-1728820800@the3churches.org.uk
SUMMARY:Services this week
DESCRIPTION:9.15am Family Worship – Croston\n11am Holy Communion – Bretherton\n11am Holy Communion – Mawdesley
URL:https://the3churches.org.uk/event/services-this-week/
CATEGORIES:Bretherton,children,Croston,Mawdesley,Service
END:VEVENT
END:VCALENDAR