BEGIN:VCALENDAR
VERSION:2.0
PRODID:-//The 3 Churches - ECPv6.15.20//NONSGML v1.0//EN
CALSCALE:GREGORIAN
METHOD:PUBLISH
X-WR-CALNAME:The 3 Churches
X-ORIGINAL-URL:https://the3churches.org.uk
X-WR-CALDESC:Events for The 3 Churches
REFRESH-INTERVAL;VALUE=DURATION:PT1H
X-Robots-Tag:noindex
X-PUBLISHED-TTL:PT1H
BEGIN:VTIMEZONE
TZID:UTC
BEGIN:STANDARD
TZOFFSETFROM:+0000
TZOFFSETTO:+0000
TZNAME:UTC
DTSTART:20230101T000000
END:STANDARD
END:VTIMEZONE
BEGIN:VEVENT
DTSTART;TZID=UTC:20241110T090000
DTEND;TZID=UTC:20241110T160000
DTSTAMP:20260423T212353
CREATED:20241109T210556Z
LAST-MODIFIED:20241109T210556Z
UID:14839-1731229200-1731254400@the3churches.org.uk
SUMMARY:Remembrance Sunday
DESCRIPTION:9:15 am Family Remembrance Service – Croston\n10.15am Joint Family Remembrance service with Chapel – Bretherton\n10.45am Family remembrance service – Mawdesley\n1pm Croston civic parade from Old School to War memorial then 1.30pm service in Church\n2.30pm Gather at Methodist Church for parade to War memorial – Act of Remembrance 3pm – Mawdesley
URL:https://the3churches.org.uk/event/remembrance-sunday/
CATEGORIES:Bretherton,children,Croston,Mawdesley
ATTACH;FMTTYPE=image/png:https://the3churches.org.uk/wp-content/uploads/2024/11/Remembrance-2-e1731183812395.png
END:VEVENT
END:VCALENDAR