BEGIN:VCALENDAR
VERSION:2.0
PRODID:-//The 3 Churches - ECPv6.15.20//NONSGML v1.0//EN
CALSCALE:GREGORIAN
METHOD:PUBLISH
X-ORIGINAL-URL:https://the3churches.org.uk
X-WR-CALDESC:Events for The 3 Churches
REFRESH-INTERVAL;VALUE=DURATION:PT1H
X-Robots-Tag:noindex
X-PUBLISHED-TTL:PT1H
BEGIN:VTIMEZONE
TZID:UTC
BEGIN:STANDARD
TZOFFSETFROM:+0000
TZOFFSETTO:+0000
TZNAME:UTC
DTSTART:20230101T000000
END:STANDARD
END:VTIMEZONE
BEGIN:VEVENT
DTSTART;TZID=UTC:20241220T190000
DTEND;TZID=UTC:20241220T210000
DTSTAMP:20260423T160438
CREATED:20241130T164235Z
LAST-MODIFIED:20241130T164235Z
UID:14950-1734721200-1734728400@the3churches.org.uk
SUMMARY:Festive Brass Band - St Peter’s Church Mawdesley
DESCRIPTION:An evening of Christmas music with Red Admiral Brass Band. Tickets £12 including refreshments\, Children free with a paying adult. Contact Elaine Marsh on 07739343696 for tickets.
URL:https://the3churches.org.uk/event/festive-brass-band-st-peters-church-mawdesley/
CATEGORIES:Bretherton,children,Croston,Mawdesley
ATTACH;FMTTYPE=image/webp:https://the3churches.org.uk/wp-content/uploads/2024/11/festive-Brass-Band-e1732382082580.webp
END:VEVENT
END:VCALENDAR