BEGIN:VCALENDAR
VERSION:2.0
PRODID:-//The 3 Churches - ECPv6.15.20//NONSGML v1.0//EN
CALSCALE:GREGORIAN
METHOD:PUBLISH
X-ORIGINAL-URL:https://the3churches.org.uk
X-WR-CALDESC:Events for The 3 Churches
REFRESH-INTERVAL;VALUE=DURATION:PT1H
X-Robots-Tag:noindex
X-PUBLISHED-TTL:PT1H
BEGIN:VTIMEZONE
TZID:UTC
BEGIN:STANDARD
TZOFFSETFROM:+0000
TZOFFSETTO:+0000
TZNAME:UTC
DTSTART:20230101T000000
END:STANDARD
END:VTIMEZONE
BEGIN:VEVENT
DTSTART;TZID=UTC:20241229T100000
DTEND;TZID=UTC:20241229T110000
DTSTAMP:20260423T160343
CREATED:20241222T210203Z
LAST-MODIFIED:20241222T210220Z
UID:15073-1735466400-1735470000@the3churches.org.uk
SUMMARY:United Parish Service
DESCRIPTION:10am United Parish Service – Mawdesley
URL:https://the3churches.org.uk/event/united-parish-service4/
LOCATION:Mawdesley St Peter’s
CATEGORIES:Bretherton,children,Croston,Mawdesley,Service
ATTACH;FMTTYPE=image/png:https://the3churches.org.uk/wp-content/uploads/2024/11/3churches-shield-150-1.png
END:VEVENT
END:VCALENDAR