BEGIN:VCALENDAR
VERSION:2.0
PRODID:-//The 3 Churches - ECPv6.15.20//NONSGML v1.0//EN
CALSCALE:GREGORIAN
METHOD:PUBLISH
X-ORIGINAL-URL:https://the3churches.org.uk
X-WR-CALDESC:Events for The 3 Churches
REFRESH-INTERVAL;VALUE=DURATION:PT1H
X-Robots-Tag:noindex
X-PUBLISHED-TTL:PT1H
BEGIN:VTIMEZONE
TZID:UTC
BEGIN:STANDARD
TZOFFSETFROM:+0000
TZOFFSETTO:+0000
TZNAME:UTC
DTSTART:20240101T000000
END:STANDARD
END:VTIMEZONE
BEGIN:VEVENT
DTSTART;TZID=UTC:20250223T091500
DTEND;TZID=UTC:20250223T101500
DTSTAMP:20260419T180441
CREATED:20250215T162340Z
LAST-MODIFIED:20250215T162340Z
UID:15328-1740302100-1740305700@the3churches.org.uk
SUMMARY:Eucharist Service
DESCRIPTION:Please come and join us for our service today.\nAt this service\, after the sermon and prayers\, we remember and celebrate the death of Jesus Christ on the cross for us all. We thank God for His great saving act of sending His Son to die for us and conquer sin and death.\nEveryone is invited to participate in this service. You are invited to receive the bread and wine if it is your custom or to come up for a blessing. All children are invited up to receive a blessing.\nFor anyone with mobility difficulties\, we can arrange for you to receive communion in your seat.
URL:https://the3churches.org.uk/event/eucharist-service-3/
LOCATION:Croston St Michael’s
CATEGORIES:Bretherton,children,Croston,Mawdesley,Service
ATTACH;FMTTYPE=image/jpeg:https://the3churches.org.uk/wp-content/uploads/2019/04/Church-1816-web-e1709677443991.jpg
END:VEVENT
BEGIN:VEVENT
DTSTART;TZID=UTC:20250223T093000
DTEND;TZID=UTC:20250223T100000
DTSTAMP:20260419T180441
CREATED:20250215T162900Z
LAST-MODIFIED:20250215T162942Z
UID:15332-1740303000-1740304800@the3churches.org.uk
SUMMARY:Family Service
DESCRIPTION:Please come and join us for our short child friendly service. It’s a service with a Christian message and lot’s of smiles; sometimes volunteers from the congregation join in.
URL:https://the3churches.org.uk/event/family-service-5/
LOCATION:Mawdesley St Peter’s
CATEGORIES:Bretherton,children,Croston,Mawdesley,Service
ATTACH;FMTTYPE=image/jpeg:https://the3churches.org.uk/wp-content/uploads/2015/01/St-Peters-Church-Mawdesley_web-e1714226721471.jpg
END:VEVENT
BEGIN:VEVENT
DTSTART;TZID=UTC:20250223T110000
DTEND;TZID=UTC:20250223T120000
DTSTAMP:20260419T180441
CREATED:20250215T162609Z
LAST-MODIFIED:20250215T162609Z
UID:15330-1740308400-1740312000@the3churches.org.uk
SUMMARY:Eucharist Service
DESCRIPTION:Please come and join us for our service today.\nAt this service\, after the sermon and prayers\, we remember and celebrate the death of Jesus Christ on the cross for us all. We thank God for His great saving act of sending His Son to die for us and conquer sin and death.\nEveryone is invited to participate in this service. You are invited to receive the bread and wine if it is your custom or to come up for a blessing. All children are invited up to receive a blessing.\nFor anyone with mobility difficulties\, we can arrange for you to receive communion in your seat.
URL:https://the3churches.org.uk/event/eucharist-service-4/
LOCATION:Bretherton St John’s
CATEGORIES:Bretherton,children,Croston,Mawdesley,Service
ATTACH;FMTTYPE=image/jpeg:https://the3churches.org.uk/wp-content/uploads/2014/12/St-Johns-Church_3123-e1704405626674.jpg
END:VEVENT
END:VCALENDAR