BEGIN:VCALENDAR
VERSION:2.0
PRODID:-//The 3 Churches - ECPv6.15.20//NONSGML v1.0//EN
CALSCALE:GREGORIAN
METHOD:PUBLISH
X-WR-CALNAME:The 3 Churches
X-ORIGINAL-URL:https://the3churches.org.uk
X-WR-CALDESC:Events for The 3 Churches
REFRESH-INTERVAL;VALUE=DURATION:PT1H
X-Robots-Tag:noindex
X-PUBLISHED-TTL:PT1H
BEGIN:VTIMEZONE
TZID:UTC
BEGIN:STANDARD
TZOFFSETFROM:+0000
TZOFFSETTO:+0000
TZNAME:UTC
DTSTART:20240101T000000
END:STANDARD
END:VTIMEZONE
BEGIN:VEVENT
DTSTART;TZID=UTC:20250328T090000
DTEND;TZID=UTC:20250328T093000
DTSTAMP:20260419T144030
CREATED:20240305T223405Z
LAST-MODIFIED:20250308T170344Z
UID:13827-1743152400-1743154200@the3churches.org.uk
SUMMARY:Morning Prayer
DESCRIPTION:
URL:https://the3churches.org.uk/event/morning-prayer-10/
LOCATION:Mawdesley St Peter’s
CATEGORIES:Bretherton,Croston,Mawdesley
ATTACH;FMTTYPE=image/jpeg:https://the3churches.org.uk/wp-content/uploads/2015/01/St-Peters-Church-Mawdesley_3097-e1709677263488.jpg
END:VEVENT
BEGIN:VEVENT
DTSTART;TZID=UTC:20250328T190000
DTEND;TZID=UTC:20250328T210000
DTSTAMP:20260419T144030
CREATED:20250207T214012Z
LAST-MODIFIED:20250207T214012Z
UID:15298-1743188400-1743195600@the3churches.org.uk
SUMMARY:Fashion Show
DESCRIPTION:The Mothers’ Union are having a Fashion Show on Friday 28th March at the Mawdesley Village Hall\, complete with cat walk and models and clothes to buy. Tickets are £6 each or a bundle of 3 tickets for £15. available from:   tinkertaylor05@gmail.com and 01704 821997. We would love to see you.
URL:https://the3churches.org.uk/event/fashion-show/
LOCATION:Mawdesley Village Hall
CATEGORIES:Bretherton,Croston,Mawdesley
ATTACH;FMTTYPE=image/jpeg:https://the3churches.org.uk/wp-content/uploads/2021/09/mothers_union_logo-Copy.jpg
END:VEVENT
END:VCALENDAR