BEGIN:VCALENDAR
VERSION:2.0
PRODID:-//The 3 Churches - ECPv6.15.20//NONSGML v1.0//EN
CALSCALE:GREGORIAN
METHOD:PUBLISH
X-ORIGINAL-URL:https://the3churches.org.uk
X-WR-CALDESC:Events for The 3 Churches
REFRESH-INTERVAL;VALUE=DURATION:PT1H
X-Robots-Tag:noindex
X-PUBLISHED-TTL:PT1H
BEGIN:VTIMEZONE
TZID:UTC
BEGIN:STANDARD
TZOFFSETFROM:+0000
TZOFFSETTO:+0000
TZNAME:UTC
DTSTART:20240101T000000
END:STANDARD
END:VTIMEZONE
BEGIN:VEVENT
DTSTART;TZID=UTC:20250402T100000
DTEND;TZID=UTC:20250402T103000
DTSTAMP:20260419T124926
CREATED:20240928T202429Z
LAST-MODIFIED:20250308T171317Z
UID:14676-1743588000-1743589800@the3churches.org.uk
SUMMARY:Holy Communion
DESCRIPTION:Please come and join us for our service today. \nYou are invited to receive the bread and wine if it is your custom or to come up for a blessing. All children are invited up to receive a blessing. \nFor anyone with mobility difficulties\, we can arrange for you to receive communion in your seat.
URL:https://the3churches.org.uk/event/holy-communion-28/
LOCATION:Croston St Michael’s
CATEGORIES:Bretherton,Croston,Mawdesley,Service
ATTACH;FMTTYPE=image/jpeg:https://the3churches.org.uk/wp-content/uploads/2019/04/Church-1816-web-e1709677443991.jpg
END:VEVENT
BEGIN:VEVENT
DTSTART;TZID=UTC:20250402T114500
DTEND;TZID=UTC:20250402T120000
DTSTAMP:20260419T124926
CREATED:20250322T173938Z
LAST-MODIFIED:20250322T173938Z
UID:15501-1743594300-1743595200@the3churches.org.uk
SUMMARY:Funeral of William Derek Hough
DESCRIPTION:The funeral of William Derek Hough will take place at St Michael’s\, Croston
URL:https://the3churches.org.uk/event/funeral-of-william-derek-hough/
LOCATION:Croston St Michael’s
CATEGORIES:Bretherton,Croston,Funeral,Funerals,Mawdesley,Service
ATTACH;FMTTYPE=image/jpeg:https://the3churches.org.uk/wp-content/uploads/2015/01/funeral-e1733776140943.jpg
END:VEVENT
BEGIN:VEVENT
DTSTART;TZID=UTC:20250402T190000
DTEND;TZID=UTC:20250402T201500
DTSTAMP:20260419T124926
CREATED:20250322T210747Z
LAST-MODIFIED:20250322T210747Z
UID:15506-1743620400-1743624900@the3churches.org.uk
SUMMARY:'Hear Our Prayer' Lent Course 2025
DESCRIPTION:The course will be hosted at Revd Tracy’s home\,  on Wednesday evenings for 4 weeks starting on 26th March ending on 16th April during Holy Week. It’s a wonderful course suitable for all ages and stages of faith to take part in. There’s a short message from Bishop Philip at the beginning of each session to start our conversation off\, then it’s over to us to explore the themes of prayer. If you want to know more about the course or watch the messages from Bishop Philip\, you can download the diocese Fruitful App. If you would like to join Revd Tracy for the course please let her know by email: rector3churches@gmail\, phone/text: 07837624872 or in church on Sunday.
URL:https://the3churches.org.uk/event/hear-our-prayer-lent-course-2025/
CATEGORIES:Bretherton,Croston,Mawdesley,Meeting
ATTACH;FMTTYPE=image/png:https://the3churches.org.uk/wp-content/uploads/2025/03/16th-March-v2-e1742677500952.png
END:VEVENT
END:VCALENDAR