BEGIN:VCALENDAR
VERSION:2.0
PRODID:-//The 3 Churches - ECPv6.15.20//NONSGML v1.0//EN
CALSCALE:GREGORIAN
METHOD:PUBLISH
X-ORIGINAL-URL:https://the3churches.org.uk
X-WR-CALDESC:Events for The 3 Churches
REFRESH-INTERVAL;VALUE=DURATION:PT1H
X-Robots-Tag:noindex
X-PUBLISHED-TTL:PT1H
BEGIN:VTIMEZONE
TZID:UTC
BEGIN:STANDARD
TZOFFSETFROM:+0000
TZOFFSETTO:+0000
TZNAME:UTC
DTSTART:20240101T000000
END:STANDARD
END:VTIMEZONE
BEGIN:VEVENT
DTSTART;VALUE=DATE:20250417
DTEND;VALUE=DATE:20250418
DTSTAMP:20260419T162338
CREATED:20250329T170321Z
LAST-MODIFIED:20250329T170504Z
UID:15570-1744848000-1744934399@the3churches.org.uk
SUMMARY:Maundy Thursday
DESCRIPTION:
URL:https://the3churches.org.uk/event/maundy-thursday-2/
CATEGORIES:Bretherton,children,Croston,Mawdesley
END:VEVENT
BEGIN:VEVENT
DTSTART;TZID=UTC:20250417T110000
DTEND;TZID=UTC:20250417T120000
DTSTAMP:20260419T162338
CREATED:20250329T154129Z
LAST-MODIFIED:20250329T154129Z
UID:15541-1744887600-1744891200@the3churches.org.uk
SUMMARY:Chrism Eucharist – Blackburn Cathedral
DESCRIPTION:Bishop Philip will preside at the Diocese Chrism Eucharist\, a service for all ministers at which holy oils will be blessed. Everyone welcome to attend.
URL:https://the3churches.org.uk/event/chrism-eucharist-blackburn-cathedral/
LOCATION:Blackburn Cathedral
CATEGORIES:Bretherton,children,Croston,Mawdesley,Service
ATTACH;FMTTYPE=image/gif:https://the3churches.org.uk/wp-content/uploads/2021/12/Blackburn-C.gif
END:VEVENT
BEGIN:VEVENT
DTSTART;TZID=UTC:20250417T190000
DTEND;TZID=UTC:20250417T200000
DTSTAMP:20260419T162338
CREATED:20250329T170140Z
LAST-MODIFIED:20250329T170248Z
UID:15566-1744916400-1744920000@the3churches.org.uk
SUMMARY:Holy Communion - Croston
DESCRIPTION:Holy Communion\, Stripping of Sanctuary & The Watch
URL:https://the3churches.org.uk/event/holy-communion-32/
LOCATION:Croston St Michael’s
CATEGORIES:Bretherton,children,Croston,Mawdesley,Service
ATTACH;FMTTYPE=image/jpeg:https://the3churches.org.uk/wp-content/uploads/2019/04/Church-1816-web-e1709677443991.jpg
END:VEVENT
END:VCALENDAR