BEGIN:VCALENDAR
VERSION:2.0
PRODID:-//The 3 Churches - ECPv6.15.20//NONSGML v1.0//EN
CALSCALE:GREGORIAN
METHOD:PUBLISH
X-ORIGINAL-URL:https://the3churches.org.uk
X-WR-CALDESC:Events for The 3 Churches
REFRESH-INTERVAL;VALUE=DURATION:PT1H
X-Robots-Tag:noindex
X-PUBLISHED-TTL:PT1H
BEGIN:VTIMEZONE
TZID:UTC
BEGIN:STANDARD
TZOFFSETFROM:+0000
TZOFFSETTO:+0000
TZNAME:UTC
DTSTART:20240101T000000
END:STANDARD
END:VTIMEZONE
BEGIN:VEVENT
DTSTART;VALUE=DATE:20250418
DTEND;VALUE=DATE:20250419
DTSTAMP:20260421T163231
CREATED:20250329T170412Z
LAST-MODIFIED:20250329T170412Z
UID:15572-1744934400-1745020799@the3churches.org.uk
SUMMARY:Good Friday
DESCRIPTION:
URL:https://the3churches.org.uk/event/good-friday-2/
CATEGORIES:Bretherton,children,Croston,Mawdesley,Service
END:VEVENT
BEGIN:VEVENT
DTSTART;TZID=UTC:20250418T100000
DTEND;TZID=UTC:20250418T110000
DTSTAMP:20260421T163231
CREATED:20250329T170957Z
LAST-MODIFIED:20250329T170957Z
UID:15578-1744970400-1744974000@the3churches.org.uk
SUMMARY:All Age Service – Bretherton (With Congregational Church)
DESCRIPTION:All Age Service – Bretherton (With Congregational Church)
URL:https://the3churches.org.uk/event/all-age-service-bretherton-with-congregational-church/
LOCATION:Bretherton St John’s
CATEGORIES:Bretherton,children,Croston,Mawdesley,Service
ATTACH;FMTTYPE=image/jpeg:https://the3churches.org.uk/wp-content/uploads/2014/12/St-Johns-Church_3123-e1704405626674.jpg
END:VEVENT
BEGIN:VEVENT
DTSTART;TZID=UTC:20250418T110000
DTEND;TZID=UTC:20250418T120000
DTSTAMP:20260421T163231
CREATED:20250329T171620Z
LAST-MODIFIED:20250329T171620Z
UID:15580-1744974000-1744977600@the3churches.org.uk
SUMMARY:Family Service & Reflection – Mawdesley
DESCRIPTION:11am Family Service & Reflection – Mawdesley
URL:https://the3churches.org.uk/event/family-service-reflection-mawdesley/
LOCATION:Mawdesley St Peter’s
CATEGORIES:Bretherton,children,Croston,Mawdesley,Service
ATTACH;FMTTYPE=image/jpeg:https://the3churches.org.uk/wp-content/uploads/2015/01/St-Peters-Church-Mawdesley_web-e1714226721471.jpg
END:VEVENT
BEGIN:VEVENT
DTSTART;TZID=UTC:20250418T140000
DTEND;TZID=UTC:20250418T150000
DTSTAMP:20260421T163231
CREATED:20250329T172034Z
LAST-MODIFIED:20250329T172034Z
UID:15582-1744984800-1744988400@the3churches.org.uk
SUMMARY:Service of the Last Hour – Croston
DESCRIPTION:2pm – Service of the Last Hour – Croston
URL:https://the3churches.org.uk/event/service-of-the-last-hour-croston/
LOCATION:Croston St Michael’s
CATEGORIES:Bretherton,children,Croston,Mawdesley,Service
ATTACH;FMTTYPE=image/jpeg:https://the3churches.org.uk/wp-content/uploads/2019/04/Church-1816-web-e1709677443991.jpg
END:VEVENT
END:VCALENDAR