BEGIN:VCALENDAR
VERSION:2.0
PRODID:-//The 3 Churches - ECPv6.15.20//NONSGML v1.0//EN
CALSCALE:GREGORIAN
METHOD:PUBLISH
X-ORIGINAL-URL:https://the3churches.org.uk
X-WR-CALDESC:Events for The 3 Churches
REFRESH-INTERVAL;VALUE=DURATION:PT1H
X-Robots-Tag:noindex
X-PUBLISHED-TTL:PT1H
BEGIN:VTIMEZONE
TZID:UTC
BEGIN:STANDARD
TZOFFSETFROM:+0000
TZOFFSETTO:+0000
TZNAME:UTC
DTSTART:20230101T000000
END:STANDARD
END:VTIMEZONE
BEGIN:VEVENT
DTSTART;TZID=UTC:20240602T100000
DTEND;TZID=UTC:20240602T160000
DTSTAMP:20260423T230603
CREATED:20240510T115016Z
LAST-MODIFIED:20240510T115016Z
UID:14129-1717322400-1717344000@the3churches.org.uk
SUMMARY:St Michael's Gift Day
DESCRIPTION:Over the next few weeks\, we will be encouraging everyone to review their giving to the church in terms of both time and money.\nOur income has fallen substantially as costs have increased and we have vacancies for a Church warden and on our PCC.\nWe need to get ourselves in shape before the new Rector arrives and the proposed parish merger goes ahead. We will be holding a Gift Day Service on 2nd  June and a day of events focused on Stewardship.\nPlease speak to Andrew Marston\, Hilary Lloyd or Derek Alty if you need more information.
URL:https://the3churches.org.uk/event/st-michaels-gift-day/
LOCATION:Croston St Michael’s
CATEGORIES:Bretherton,Charity Event,children,Croston,Mawdesley
ATTACH;FMTTYPE=image/jpeg:https://the3churches.org.uk/wp-content/uploads/2019/04/Church-1816-web-e1709677443991.jpg
END:VEVENT
BEGIN:VEVENT
DTSTART;TZID=UTC:20240616T110000
DTEND;TZID=UTC:20240616T160000
DTSTAMP:20260423T230603
CREATED:20240510T115917Z
LAST-MODIFIED:20240615T100804Z
UID:14133-1718535600-1718553600@the3churches.org.uk
SUMMARY:Open Church - St Peter’s Mawdesley with Bispham
DESCRIPTION:Come and join us as we continue to celebrate 150 years of Walking Day and the Tea Party 15th and 16th June 2024 11am – 4pm. Everyone welcome!
URL:https://the3churches.org.uk/event/open-church-st-peters-mawdesley-with-bispham-2/
LOCATION:Mawdesley St Peter’s
CATEGORIES:Bretherton,Charity Event,children,Croston,Mawdesley,Service
ATTACH;FMTTYPE=image/jpeg:https://the3churches.org.uk/wp-content/uploads/2015/01/St-Peters-Church-Mawdesley_web-e1714226721471.jpg
END:VEVENT
END:VCALENDAR