BEGIN:VCALENDAR
VERSION:2.0
PRODID:-//The 3 Churches - ECPv6.15.20//NONSGML v1.0//EN
CALSCALE:GREGORIAN
METHOD:PUBLISH
X-WR-CALNAME:The 3 Churches
X-ORIGINAL-URL:https://the3churches.org.uk
X-WR-CALDESC:Events for The 3 Churches
REFRESH-INTERVAL;VALUE=DURATION:PT1H
X-Robots-Tag:noindex
X-PUBLISHED-TTL:PT1H
BEGIN:VTIMEZONE
TZID:UTC
BEGIN:STANDARD
TZOFFSETFROM:+0000
TZOFFSETTO:+0000
TZNAME:UTC
DTSTART:20240101T000000
END:STANDARD
END:VTIMEZONE
BEGIN:VEVENT
DTSTART;TZID=UTC:20250914T160000
DTEND;TZID=UTC:20250914T173000
DTSTAMP:20260424T071556
CREATED:20250719T155448Z
LAST-MODIFIED:20250719T155448Z
UID:16007-1757865600-1757871000@the3churches.org.uk
SUMMARY:Parish Youth Group
DESCRIPTION:Parish Youth Group – Years 5 upwards \nThe next Youth Group will be on Sunday 14th September 4-5:30pm. Bishop Chester’s Woods. All welcome!
URL:https://the3churches.org.uk/event/parish-youth-group/
LOCATION:Bishop Chester’s Woods
CATEGORIES:Bretherton,Charity Event,children,Croston,Mawdesley,Meeting
ATTACH;FMTTYPE=image/png:https://the3churches.org.uk/wp-content/uploads/2025/05/YOUTH-e1748623235400.png
END:VEVENT
BEGIN:VEVENT
DTSTART;TZID=UTC:20250921T100000
DTEND;TZID=UTC:20250921T110000
DTSTAMP:20260424T071556
CREATED:20250913T174618Z
LAST-MODIFIED:20250913T174618Z
UID:16248-1758448800-1758452400@the3churches.org.uk
SUMMARY:Macmillan Coffee Morning
DESCRIPTION:Our parish will be supporting the Macmillan Coffee Morning by selling and eating cake following the Joint Service on Sunday 21st September. We do ‘eating cake’ so well\, therefore we thought we’d play to our strengths! If you are able to bake or bring a cake/biscuits then please bring them with you and pop them on the table before the service begins. Please remember to list the ingredients on a piece of paper for those who have allergies and may need to avoid certain ingredients. This is a wonderful charity to support and I’m they will be very grateful for any donations we are able to send on to them. Thank you in advance.
URL:https://the3churches.org.uk/event/macmillan-coffee-morning/
LOCATION:Croston St Michael’s
CATEGORIES:Bretherton,Charity Event,children,Croston,Mawdesley
END:VEVENT
BEGIN:VEVENT
DTSTART;TZID=UTC:20251129T110000
DTEND;TZID=UTC:20251129T160000
DTSTAMP:20260424T071556
CREATED:20241019T195816Z
LAST-MODIFIED:20251018T122725Z
UID:14762-1764414000-1764432000@the3churches.org.uk
SUMMARY:Christmas Tree Festival
DESCRIPTION:The return of the Christmas Tree festival is almost here! Come along and see the many different trees that decorate the pews of St Michael’s. There will also be a raffle\, tombola\, crafts for sale and refreshments. Tickets: £3 Adults\, accompanied Children Free.\n\nJubilate choir will be singing between 2.30 – 3.30pm on both days \nHelpers needed for this event – There is a rota at the back of St Michael’s or message Kathryn if you can help. \nDonations needed: Adults and Children’s tombola prizes\, cakes and crafts. Let us know if you can help or donate items. \n\n 
URL:https://the3churches.org.uk/event/christmas-tree-festival-2/
LOCATION:Croston St Michael’s
CATEGORIES:Bretherton,Charity Event,children,Croston,Mawdesley
ATTACH;FMTTYPE=image/jpeg:https://the3churches.org.uk/wp-content/uploads/2015/09/Tree-e1719688819615.jpg
END:VEVENT
BEGIN:VEVENT
DTSTART;TZID=UTC:20251130T130000
DTEND;TZID=UTC:20251130T160000
DTSTAMP:20260424T071556
CREATED:20240629T192035Z
LAST-MODIFIED:20251018T122918Z
UID:14339-1764507600-1764518400@the3churches.org.uk
SUMMARY:Christmas Tree Festival
DESCRIPTION:The return of the Christmas Tree festival is almost here! Come along and see the many different trees that decorate the pews of St Michael’s. There will also be a raffle\, tombola\, crafts for sale and refreshments. Tickets: £3 Adults\, accompanied Children Free.\n\nJubilate choir will be singing between 2.30 – 3.30pm on both days \nHelpers needed for this event – There is a rota at the back of St Michael’s or message Kathryn if you can help. \nDonations needed: Adults and Children’s tombola prizes\, cakes and crafts. Let us know if you can help or donate items.
URL:https://the3churches.org.uk/event/christmas-tree-festival/
LOCATION:Croston St Michael’s
CATEGORIES:Bretherton,Charity Event,children,Christmas,Croston,Mawdesley
ATTACH;FMTTYPE=image/jpeg:https://the3churches.org.uk/wp-content/uploads/2015/09/Tree-e1719688819615.jpg
END:VEVENT
END:VCALENDAR