BEGIN:VCALENDAR
VERSION:2.0
PRODID:-//The 3 Churches - ECPv6.15.20//NONSGML v1.0//EN
CALSCALE:GREGORIAN
METHOD:PUBLISH
X-ORIGINAL-URL:https://the3churches.org.uk
X-WR-CALDESC:Events for The 3 Churches
REFRESH-INTERVAL;VALUE=DURATION:PT1H
X-Robots-Tag:noindex
X-PUBLISHED-TTL:PT1H
BEGIN:VTIMEZONE
TZID:UTC
BEGIN:STANDARD
TZOFFSETFROM:+0000
TZOFFSETTO:+0000
TZNAME:UTC
DTSTART:20240101T000000
END:STANDARD
END:VTIMEZONE
BEGIN:VEVENT
DTSTART;TZID=UTC:20251004T190000
DTEND;TZID=UTC:20251004T220000
DTSTAMP:20260423T123412
CREATED:20250913T173649Z
LAST-MODIFIED:20250913T174159Z
UID:16244-1759604400-1759615200@the3churches.org.uk
SUMMARY:Parish Harvest Supper
DESCRIPTION:  \nTwo course hot pot supper\, BYOB\, entertainment. Tickets £12\, Children £6 from any of the three churches or 01772600962
URL:https://the3churches.org.uk/event/parish-harvest-supper/
LOCATION:CROSTON Old School
CATEGORIES:Bretherton,children,Croston,Mawdesley
END:VEVENT
BEGIN:VEVENT
DTSTART;TZID=UTC:20251005T090000
DTEND;TZID=UTC:20251005T120000
DTSTAMP:20260423T123412
CREATED:20250913T174001Z
LAST-MODIFIED:20250913T174107Z
UID:16246-1759654800-1759665600@the3churches.org.uk
SUMMARY:Harvest
DESCRIPTION:Our Harvest celebrations will take place on Sunday 5th October in each of our churches. We will be taking gifts of food (packets / tins) and toiletries for the Foodbank. You can bring your gifts on the day or over the next few weeks. Our ability to help others\, no matter how small\, is a generous act of kindness and recognition of God’s provision to us. \n9am Harvest – Croston \n11am Harvest – Bretherton \n11am Harvest – Ctoston \n 
URL:https://the3churches.org.uk/event/harvest/
CATEGORIES:Bretherton,children,Croston,Mawdesley,Prayer,Service
ATTACH;FMTTYPE=image/jpeg:https://the3churches.org.uk/wp-content/uploads/2021/10/Harvest-Sunday-2021-e1726320174194.jpg
END:VEVENT
BEGIN:VEVENT
DTSTART;VALUE=DATE:20251026
DTEND;VALUE=DATE:20251027
DTSTAMP:20260423T123412
CREATED:20251018T131956Z
LAST-MODIFIED:20251018T131956Z
UID:16380-1761436800-1761523199@the3churches.org.uk
SUMMARY:Bible Sunday
DESCRIPTION:Sunday 26th is Bible Sunday\, come to church with your Bibles for a blessing and if you have any ‘good quality’ spare Bibles that you’d like to donate we’d be very happy to share them with people who don’t have one.
URL:https://the3churches.org.uk/event/bible-sunday/
CATEGORIES:Bretherton,children,Croston,Mawdesley,Prayer,Service
ATTACH;FMTTYPE=image/jpeg:https://the3churches.org.uk/wp-content/uploads/2024/01/istockphoto-623522798-612x612-1-e1710617646623.jpg
END:VEVENT
BEGIN:VEVENT
DTSTART;TZID=UTC:20251026T160000
DTEND;TZID=UTC:20251026T173000
DTSTAMP:20260423T123412
CREATED:20251018T131048Z
LAST-MODIFIED:20251018T131135Z
UID:16371-1761494400-1761499800@the3churches.org.uk
SUMMARY:Youth Group – St Michael’s Church\, Croston
DESCRIPTION:  All children from year 5 upwards are welcome. We may venture outside if the weather is dry\, please make sure to bring a coat just in case!
URL:https://the3churches.org.uk/event/youth-group-sunday-26th-october-4-5-30pm-st-michaels-church-croston/
CATEGORIES:Bretherton,children,Croston,Mawdesley,Youth Group
ATTACH;FMTTYPE=image/png:https://the3churches.org.uk/wp-content/uploads/2025/05/YOUTH-e1748623235400.png
END:VEVENT
END:VCALENDAR