BEGIN:VCALENDAR
VERSION:2.0
PRODID:-//The 3 Churches - ECPv6.15.20//NONSGML v1.0//EN
CALSCALE:GREGORIAN
METHOD:PUBLISH
X-WR-CALNAME:The 3 Churches
X-ORIGINAL-URL:https://the3churches.org.uk
X-WR-CALDESC:Events for The 3 Churches
REFRESH-INTERVAL;VALUE=DURATION:PT1H
X-Robots-Tag:noindex
X-PUBLISHED-TTL:PT1H
BEGIN:VTIMEZONE
TZID:UTC
BEGIN:STANDARD
TZOFFSETFROM:+0000
TZOFFSETTO:+0000
TZNAME:UTC
DTSTART:20230101T000000
END:STANDARD
END:VTIMEZONE
BEGIN:VEVENT
DTSTART;TZID=UTC:20241130T120000
DTEND;TZID=UTC:20241130T150000
DTSTAMP:20260421T183512
CREATED:20241123T165214Z
LAST-MODIFIED:20241123T165214Z
UID:14911-1732968000-1732978800@the3churches.org.uk
SUMMARY:Christmas Fair - Bretherton Congregational Church
DESCRIPTION:There will be a Christmas Fair at Bretherton Congregational Church on Saturday 30th November between 12 – 3pm.\nCome and join us and enjoy lunch with Spiderman\, pie and peas\, loaded jacket potatoes\, irresistible desserts and much more. \nEveryone welcome!
URL:https://the3churches.org.uk/event/christmas-fair-bretherton-congregational-church/
LOCATION:Congregational Church\, Bretherton\, Bretherton
CATEGORIES:Bretherton,children,Croston,Mawdesley
ATTACH;FMTTYPE=image/jpeg:https://the3churches.org.uk/wp-content/uploads/2019/10/Congregational-Church-e1731763734816.jpg
END:VEVENT
END:VCALENDAR