BEGIN:VCALENDAR
VERSION:2.0
PRODID:-//The 3 Churches - ECPv6.15.20//NONSGML v1.0//EN
CALSCALE:GREGORIAN
METHOD:PUBLISH
X-ORIGINAL-URL:https://the3churches.org.uk
X-WR-CALDESC:Events for The 3 Churches
REFRESH-INTERVAL;VALUE=DURATION:PT1H
X-Robots-Tag:noindex
X-PUBLISHED-TTL:PT1H
BEGIN:VTIMEZONE
TZID:UTC
BEGIN:STANDARD
TZOFFSETFROM:+0000
TZOFFSETTO:+0000
TZNAME:UTC
DTSTART:20240101T000000
END:STANDARD
END:VTIMEZONE
BEGIN:VEVENT
DTSTART;TZID=UTC:20251004T190000
DTEND;TZID=UTC:20251004T220000
DTSTAMP:20260421T195712
CREATED:20250913T173649Z
LAST-MODIFIED:20250913T174159Z
UID:16244-1759604400-1759615200@the3churches.org.uk
SUMMARY:Parish Harvest Supper
DESCRIPTION:  \nTwo course hot pot supper\, BYOB\, entertainment. Tickets £12\, Children £6 from any of the three churches or 01772600962
URL:https://the3churches.org.uk/event/parish-harvest-supper/
LOCATION:CROSTON Old School
CATEGORIES:Bretherton,children,Croston,Mawdesley
END:VEVENT
END:VCALENDAR