BEGIN:VCALENDAR
VERSION:2.0
PRODID:-//The 3 Churches - ECPv6.15.20//NONSGML v1.0//EN
CALSCALE:GREGORIAN
METHOD:PUBLISH
X-ORIGINAL-URL:https://the3churches.org.uk
X-WR-CALDESC:Events for The 3 Churches
REFRESH-INTERVAL;VALUE=DURATION:PT1H
X-Robots-Tag:noindex
X-PUBLISHED-TTL:PT1H
BEGIN:VTIMEZONE
TZID:UTC
BEGIN:STANDARD
TZOFFSETFROM:+0000
TZOFFSETTO:+0000
TZNAME:UTC
DTSTART:20240101T000000
END:STANDARD
END:VTIMEZONE
BEGIN:VEVENT
DTSTART;TZID=UTC:20250305T140000
DTEND;TZID=UTC:20250305T150000
DTSTAMP:20260424T050430
CREATED:20250207T213635Z
LAST-MODIFIED:20250207T213635Z
UID:15296-1741183200-1741186800@the3churches.org.uk
SUMMARY:Mothers' Union Meeting
DESCRIPTION:Our speaker this month is Mrs. Kathleen Tordoff who is born and bred in Mawdesley and will be telling us what life was like in Mawdesley 80 years ago with photos. \nPlease join us at 2pm in the Parish Room behind St. Peter’s Church.
URL:https://the3churches.org.uk/event/mothers-union-meeting/
LOCATION:Mawdesley St Peter’s
CATEGORIES:Bretherton,Croston,Mawdesley,Meeting
ATTACH;FMTTYPE=image/jpeg:https://the3churches.org.uk/wp-content/uploads/2021/09/mothers_union_logo-Copy.jpg
END:VEVENT
BEGIN:VEVENT
DTSTART;TZID=UTC:20250326T190000
DTEND;TZID=UTC:20250326T201500
DTSTAMP:20260424T050430
CREATED:20250322T210520Z
LAST-MODIFIED:20250322T210546Z
UID:15503-1743015600-1743020100@the3churches.org.uk
SUMMARY:'Hear Our Prayer' Lent Course 2025
DESCRIPTION:The course will be hosted at Revd Tracy’s home\,  on Wednesday evenings for 4 weeks starting on 26th March ending on 16th April during Holy Week. It’s a wonderful course suitable for all ages and stages of faith to take part in. There’s a short message from Bishop Philip at the beginning of each session to start our conversation off\, then it’s over to us to explore the themes of prayer. If you want to know more about the course or watch the messages from Bishop Philip\, you can download the diocese Fruitful App. If you would like to join Revd Tracy for the course please let her know by email: rector3churches@gmail\, phone/text: 07837624872 or in church on Sunday.
URL:https://the3churches.org.uk/event/hear-our-prayer-lent-course-2025-7pm-815pm/
CATEGORIES:Bretherton,Croston,Mawdesley,Meeting
ATTACH;FMTTYPE=image/png:https://the3churches.org.uk/wp-content/uploads/2025/03/16th-March-v2-e1742677500952.png
END:VEVENT
END:VCALENDAR