BEGIN:VCALENDAR
VERSION:2.0
PRODID:-//The 3 Churches - ECPv6.15.20//NONSGML v1.0//EN
CALSCALE:GREGORIAN
METHOD:PUBLISH
X-WR-CALNAME:The 3 Churches
X-ORIGINAL-URL:https://the3churches.org.uk
X-WR-CALDESC:Events for The 3 Churches
REFRESH-INTERVAL;VALUE=DURATION:PT1H
X-Robots-Tag:noindex
X-PUBLISHED-TTL:PT1H
BEGIN:VTIMEZONE
TZID:UTC
BEGIN:STANDARD
TZOFFSETFROM:+0000
TZOFFSETTO:+0000
TZNAME:UTC
DTSTART:20230101T000000
END:STANDARD
END:VTIMEZONE
BEGIN:VEVENT
DTSTART;TZID=UTC:20240807T100000
DTEND;TZID=UTC:20240807T103000
DTSTAMP:20260424T002638
CREATED:20240811T205200Z
LAST-MODIFIED:20240811T205219Z
UID:14491-1723024800-1723026600@the3churches.org.uk
SUMMARY:Holy Communion
DESCRIPTION:Please come and join us for our service today. \nYou are invited to receive the bread and wine if it is your custom or to come up for a blessing. All children are invited up to receive a blessing. \nFor anyone with mobility difficulties\, we can arrange for you to receive communion in your seat.
URL:https://the3churches.org.uk/event/holy-communion-17/
CATEGORIES:Bretherton,children,Croston,Mawdesley,Service
ATTACH;FMTTYPE=image/jpeg:https://the3churches.org.uk/wp-content/uploads/2019/04/Church-1816-web-e1709677443991.jpg
END:VEVENT
BEGIN:VEVENT
DTSTART;TZID=UTC:20240814T100000
DTEND;TZID=UTC:20240814T103000
DTSTAMP:20260424T002638
CREATED:20240811T205012Z
LAST-MODIFIED:20240811T205012Z
UID:14489-1723629600-1723631400@the3churches.org.uk
SUMMARY:Holy Communion
DESCRIPTION:Please come and join us for our service today. \nYou are invited to receive the bread and wine if it is your custom or to come up for a blessing. All children are invited up to receive a blessing. \nFor anyone with mobility difficulties\, we can arrange for you to receive communion in your seat.
URL:https://the3churches.org.uk/event/holy-communion-16/
CATEGORIES:Bretherton,children,Croston,Mawdesley,Service
ATTACH;FMTTYPE=image/jpeg:https://the3churches.org.uk/wp-content/uploads/2019/04/Church-1816-web-e1709677443991.jpg
END:VEVENT
BEGIN:VEVENT
DTSTART;TZID=UTC:20240818T100000
DTEND;TZID=UTC:20240818T110000
DTSTAMP:20260424T002638
CREATED:20240817T204611Z
LAST-MODIFIED:20240817T204611Z
UID:14517-1723975200-1723978800@the3churches.org.uk
SUMMARY:Joint Parish Eucharist
DESCRIPTION:Please come and join us as our three churches celebrate Holy Communion together.\nAt this service\, after the sermon and prayers\, we remember and celebrate the death of Jesus Christ on the cross for us all. We thank God for His great saving act of sending His Son to die for us and conquer sin and death.\nEveryone is invited to participate in this service. You are invited to receive the bread and wine if it is your custom or to come up for a blessing. All children are invited up to receive a blessing.\nFor anyone with mobility difficulties\, we can arrange for you to receive communion in your seat.
URL:https://the3churches.org.uk/event/joint-parish-eucharist/
LOCATION:Croston St Michael’s
CATEGORIES:Bretherton,Croston,Mawdesley,Service
ATTACH;FMTTYPE=image/jpeg:https://the3churches.org.uk/wp-content/uploads/2019/04/Church-1816-web-e1709677443991.jpg
END:VEVENT
BEGIN:VEVENT
DTSTART;TZID=UTC:20240821T100000
DTEND;TZID=UTC:20240821T103000
DTSTAMP:20260424T002638
CREATED:20240811T205355Z
LAST-MODIFIED:20240811T205355Z
UID:14493-1724234400-1724236200@the3churches.org.uk
SUMMARY:Holy Communion
DESCRIPTION:Please come and join us for our service today. \nYou are invited to receive the bread and wine if it is your custom or to come up for a blessing. All children are invited up to receive a blessing. \nFor anyone with mobility difficulties\, we can arrange for you to receive communion in your seat.
URL:https://the3churches.org.uk/event/holy-communion-18/
CATEGORIES:Bretherton,children,Croston,Mawdesley,Service
ATTACH;FMTTYPE=image/jpeg:https://the3churches.org.uk/wp-content/uploads/2019/04/Church-1816-web-e1709677443991.jpg
END:VEVENT
BEGIN:VEVENT
DTSTART;TZID=UTC:20240823T090000
DTEND;TZID=UTC:20240823T093000
DTSTAMP:20260424T002638
CREATED:20240817T203056Z
LAST-MODIFIED:20240817T203056Z
UID:14513-1724403600-1724405400@the3churches.org.uk
SUMMARY:Morning Prayer
DESCRIPTION:We would like to extend a warm welcome to everyone to come and join us for morning prayer.
URL:https://the3churches.org.uk/event/morning-prayer-25/
CATEGORIES:Bretherton,Croston,Mawdesley,Service
ATTACH;FMTTYPE=image/jpeg:https://the3churches.org.uk/wp-content/uploads/2015/01/St-Peters-Church-Mawdesley_web-e1714226721471.jpg
END:VEVENT
BEGIN:VEVENT
DTSTART;TZID=UTC:20240828T100000
DTEND;TZID=UTC:20240828T103000
DTSTAMP:20260424T002638
CREATED:20240811T205509Z
LAST-MODIFIED:20240811T205509Z
UID:14495-1724839200-1724841000@the3churches.org.uk
SUMMARY:Holy Communion
DESCRIPTION:Please come and join us for our service today. \nYou are invited to receive the bread and wine if it is your custom or to come up for a blessing. All children are invited up to receive a blessing. \nFor anyone with mobility difficulties\, we can arrange for you to receive communion in your seat.
URL:https://the3churches.org.uk/event/holy-communion-19/
CATEGORIES:Bretherton,children,Croston,Mawdesley,Service
ATTACH;FMTTYPE=image/jpeg:https://the3churches.org.uk/wp-content/uploads/2019/04/Church-1816-web-e1709677443991.jpg
END:VEVENT
BEGIN:VEVENT
DTSTART;TZID=UTC:20240830T090000
DTEND;TZID=UTC:20240830T093000
DTSTAMP:20260424T002638
CREATED:20240817T203321Z
LAST-MODIFIED:20240817T203402Z
UID:14515-1725008400-1725010200@the3churches.org.uk
SUMMARY:Morning Prayer
DESCRIPTION:We would like to extend a warm welcome to everyone to come and join us for morning prayer.
URL:https://the3churches.org.uk/event/morning-prayer-26/
CATEGORIES:Bretherton,Croston,Mawdesley,Service
ATTACH;FMTTYPE=image/jpeg:https://the3churches.org.uk/wp-content/uploads/2015/01/St-Peters-Church-Mawdesley_web-e1714226721471.jpg
END:VEVENT
BEGIN:VEVENT
DTSTART;TZID=UTC:20240830T150000
DTEND;TZID=UTC:20240830T170000
DTSTAMP:20260424T002638
CREATED:20240727T213654Z
LAST-MODIFIED:20240727T213654Z
UID:14458-1725030000-1725037200@the3churches.org.uk
SUMMARY:St Michael’s Organ Concert – Friday 30th August 3pm
DESCRIPTION:Joshua Greenwell from Ripon Cathedral and Stewart Whillis present a musical extravaganza of Popular and Classical tunes to raise money for the restoration of the organ in St Michael’s. \nRefreshments and raffle will also be available.
URL:https://the3churches.org.uk/event/st-michaels-organ-concert-friday-30th-august-3pm/
LOCATION:Croston St Michael’s
CATEGORIES:Bretherton,Charity Event,children,Croston,Mawdesley
ATTACH;FMTTYPE=image/jpeg:https://the3churches.org.uk/wp-content/uploads/2024/07/organ-keyboard-e1722113956127.jpg
END:VEVENT
END:VCALENDAR