BEGIN:VCALENDAR
VERSION:2.0
PRODID:-//The 3 Churches - ECPv6.15.20//NONSGML v1.0//EN
CALSCALE:GREGORIAN
METHOD:PUBLISH
X-WR-CALNAME:The 3 Churches
X-ORIGINAL-URL:https://the3churches.org.uk
X-WR-CALDESC:Events for The 3 Churches
REFRESH-INTERVAL;VALUE=DURATION:PT1H
X-Robots-Tag:noindex
X-PUBLISHED-TTL:PT1H
BEGIN:VTIMEZONE
TZID:UTC
BEGIN:STANDARD
TZOFFSETFROM:+0000
TZOFFSETTO:+0000
TZNAME:UTC
DTSTART:20230101T000000
END:STANDARD
END:VTIMEZONE
BEGIN:VEVENT
DTSTART;TZID=UTC:20240904T100000
DTEND;TZID=UTC:20240904T103000
DTSTAMP:20260424T015012
CREATED:20240824T201455Z
LAST-MODIFIED:20240824T201532Z
UID:14541-1725444000-1725445800@the3churches.org.uk
SUMMARY:Holy Communion
DESCRIPTION:Please come and join us for our service today. \nYou are invited to receive the bread and wine if it is your custom or to come up for a blessing. All children are invited up to receive a blessing. \nFor anyone with mobility difficulties\, we can arrange for you to receive communion in your seat.
URL:https://the3churches.org.uk/event/holy-communion-20/
LOCATION:Croston St Michael’s
CATEGORIES:Bretherton,children,Croston,Mawdesley,Service
ATTACH;FMTTYPE=image/jpeg:https://the3churches.org.uk/wp-content/uploads/2019/04/Church-1816-web-e1709677443991.jpg
END:VEVENT
BEGIN:VEVENT
DTSTART;TZID=UTC:20240906T090000
DTEND;TZID=UTC:20240906T093000
DTSTAMP:20260424T015012
CREATED:20240921T202542Z
LAST-MODIFIED:20240921T202542Z
UID:14631-1725613200-1725615000@the3churches.org.uk
SUMMARY:Morning Prayer
DESCRIPTION:We would like to extend a warm welcome to everyone to come and join us for morning prayer.
URL:https://the3churches.org.uk/event/morning-prayer-27/
LOCATION:Mawdesley St Peter’s
CATEGORIES:Bretherton,Croston,Mawdesley,Service
ATTACH;FMTTYPE=image/jpeg:https://the3churches.org.uk/wp-content/uploads/2015/01/St-Peters-Church-Mawdesley_web-e1714226721471.jpg
END:VEVENT
BEGIN:VEVENT
DTSTART;TZID=UTC:20240907T190000
DTEND;TZID=UTC:20240907T230000
DTSTAMP:20260424T015012
CREATED:20240110T213723Z
LAST-MODIFIED:20240720T210732Z
UID:13423-1725735600-1725750000@the3churches.org.uk
SUMMARY:Music in the Woods
DESCRIPTION:
URL:https://the3churches.org.uk/event/music-in-the-woods/
CATEGORIES:Bretherton,Croston,Mawdesley
END:VEVENT
BEGIN:VEVENT
DTSTART;TZID=UTC:20240911T100000
DTEND;TZID=UTC:20240911T103000
DTSTAMP:20260424T015012
CREATED:20240824T201746Z
LAST-MODIFIED:20240824T201746Z
UID:14543-1726048800-1726050600@the3churches.org.uk
SUMMARY:Holy Communion
DESCRIPTION:Please come and join us for our service today. \nYou are invited to receive the bread and wine if it is your custom or to come up for a blessing. All children are invited up to receive a blessing. \nFor anyone with mobility difficulties\, we can arrange for you to receive communion in your seat.
URL:https://the3churches.org.uk/event/holy-communion-21/
LOCATION:Croston St Michael’s
CATEGORIES:Bretherton,children,Croston,Mawdesley,Service
ATTACH;FMTTYPE=image/jpeg:https://the3churches.org.uk/wp-content/uploads/2019/04/Church-1816-web-e1709677443991.jpg
END:VEVENT
BEGIN:VEVENT
DTSTART;TZID=UTC:20240913T090000
DTEND;TZID=UTC:20240913T093000
DTSTAMP:20260424T015012
CREATED:20240921T203546Z
LAST-MODIFIED:20240921T203546Z
UID:14633-1726218000-1726219800@the3churches.org.uk
SUMMARY:Morning Prayer
DESCRIPTION:We would like to extend a warm welcome to everyone to come and join us for morning prayer.
URL:https://the3churches.org.uk/event/morning-prayer-28/
LOCATION:Mawdesley St Peter’s
CATEGORIES:Bretherton,Croston,Mawdesley,Service
ATTACH;FMTTYPE=image/jpeg:https://the3churches.org.uk/wp-content/uploads/2015/01/St-Peters-Church-Mawdesley_web-e1714226721471.jpg
END:VEVENT
BEGIN:VEVENT
DTSTART;TZID=UTC:20240914T123000
DTEND;TZID=UTC:20240914T123000
DTSTAMP:20260424T015012
CREATED:20240116T211621Z
LAST-MODIFIED:20240811T205733Z
UID:13512-1726317000-1726317000@the3churches.org.uk
SUMMARY:Wedding Service
DESCRIPTION:The marriage of Claire Exley and Tom Barlow will take place at Croston\, St Michael’s on the 31st August. \n 
URL:https://the3churches.org.uk/event/wedding-service/
LOCATION:Croston St Michael’s
CATEGORIES:Bretherton,Croston,Mawdesley,Wedding
ATTACH;FMTTYPE=image/webp:https://the3churches.org.uk/wp-content/uploads/2024/01/wedding-e1718445638844.webp
END:VEVENT
BEGIN:VEVENT
DTSTART;TZID=UTC:20240914T133000
DTEND;TZID=UTC:20240914T163000
DTSTAMP:20260424T015012
CREATED:20240824T201122Z
LAST-MODIFIED:20240824T201122Z
UID:14539-1726320600-1726331400@the3churches.org.uk
SUMMARY:Bretherton Village Fete - 1.30 to 4.30pm
DESCRIPTION:Bretherton Village Fete – Saturday 14th September from 1.30 to 4.30pm \nBretherton Recreation Ground \nLive music by Jacqui’s Rhythm Katz\, local stalls\, class competitions\, BBQ & refreshments\, games. \nAdmission free\, everyone welcome!
URL:https://the3churches.org.uk/event/bretherton-village-fete-1-30-to-4-30pm/
CATEGORIES:Bretherton,Charity Event,children,Croston,Mawdesley
ATTACH;FMTTYPE=image/jpeg:https://the3churches.org.uk/wp-content/uploads/2024/08/village-fete-e1724528515686.jpg
END:VEVENT
BEGIN:VEVENT
DTSTART;TZID=UTC:20240918T100000
DTEND;TZID=UTC:20240918T103000
DTSTAMP:20260424T015012
CREATED:20240824T201956Z
LAST-MODIFIED:20240824T201956Z
UID:14545-1726653600-1726655400@the3churches.org.uk
SUMMARY:Holy Communion
DESCRIPTION:Please come and join us for our service today. \nYou are invited to receive the bread and wine if it is your custom or to come up for a blessing. All children are invited up to receive a blessing. \nFor anyone with mobility difficulties\, we can arrange for you to receive communion in your seat.
URL:https://the3churches.org.uk/event/holy-communion-22/
LOCATION:Croston St Michael’s
CATEGORIES:Bretherton,children,Croston,Mawdesley,Service
ATTACH;FMTTYPE=image/jpeg:https://the3churches.org.uk/wp-content/uploads/2019/04/Church-1816-web-e1709677443991.jpg
END:VEVENT
BEGIN:VEVENT
DTSTART;TZID=UTC:20240920T090000
DTEND;TZID=UTC:20240920T093000
DTSTAMP:20260424T015012
CREATED:20240921T203837Z
LAST-MODIFIED:20240921T203837Z
UID:14635-1726822800-1726824600@the3churches.org.uk
SUMMARY:Morning Prayer
DESCRIPTION:We would like to extend a warm welcome to everyone to come and join us for morning prayer.
URL:https://the3churches.org.uk/event/morning-prayer-29/
LOCATION:Mawdesley St Peter’s
CATEGORIES:Bretherton,Croston,Mawdesley,Service
ATTACH;FMTTYPE=image/jpeg:https://the3churches.org.uk/wp-content/uploads/2015/01/St-Peters-Church-Mawdesley_web-e1714226721471.jpg
END:VEVENT
BEGIN:VEVENT
DTSTART;TZID=UTC:20240925T100000
DTEND;TZID=UTC:20240925T103000
DTSTAMP:20260424T015012
CREATED:20240824T202143Z
LAST-MODIFIED:20240824T202403Z
UID:14547-1727258400-1727260200@the3churches.org.uk
SUMMARY:Holy Communion
DESCRIPTION:Please come and join us for our service today. \nYou are invited to receive the bread and wine if it is your custom or to come up for a blessing. All children are invited up to receive a blessing. \nFor anyone with mobility difficulties\, we can arrange for you to receive communion in your seat.
URL:https://the3churches.org.uk/event/holy-communion-23/
LOCATION:Croston St Michael’s
CATEGORIES:Bretherton,children,Croston,Mawdesley,Service
ATTACH;FMTTYPE=image/jpeg:https://the3churches.org.uk/wp-content/uploads/2019/04/Church-1816-web-e1709677443991.jpg
END:VEVENT
BEGIN:VEVENT
DTSTART;TZID=UTC:20240927T090000
DTEND;TZID=UTC:20240927T093000
DTSTAMP:20260424T015012
CREATED:20240921T204025Z
LAST-MODIFIED:20240921T204025Z
UID:14637-1727427600-1727429400@the3churches.org.uk
SUMMARY:Morning Prayer
DESCRIPTION:We would like to extend a warm welcome to everyone to come and join us for morning prayer.
URL:https://the3churches.org.uk/event/morning-prayer-30/
LOCATION:Mawdesley St Peter’s
CATEGORIES:Bretherton,Croston,Mawdesley,Service
ATTACH;FMTTYPE=image/jpeg:https://the3churches.org.uk/wp-content/uploads/2015/01/St-Peters-Church-Mawdesley_web-e1714226721471.jpg
END:VEVENT
BEGIN:VEVENT
DTSTART;TZID=UTC:20240929T100000
DTEND;TZID=UTC:20240929T110000
DTSTAMP:20260424T015012
CREATED:20240928T204004Z
LAST-MODIFIED:20240928T204004Z
UID:14678-1727604000-1727607600@the3churches.org.uk
SUMMARY:Joint United Parish Eucharist
DESCRIPTION:Please come and join us as our three churches celebrate Holy Communion together.\nAt this service\, after the sermon and prayers\, we remember and celebrate the death of Jesus Christ on the cross for us all. We thank God for His great saving act of sending His Son to die for us and conquer sin and death.\nEveryone is invited to participate in this service. You are invited to receive the bread and wine if it is your custom or to come up for a blessing. All children are invited up to receive a blessing.\nFor anyone with mobility difficulties\, we can arrange for you to receive communion in your seat.
URL:https://the3churches.org.uk/event/joint-united-parish-eucharist/
LOCATION:Croston St Michael’s
CATEGORIES:Bretherton,children,Croston,Mawdesley,Service
ATTACH;FMTTYPE=image/jpeg:https://the3churches.org.uk/wp-content/uploads/2019/04/Church-1816-web-e1709677443991.jpg
END:VEVENT
END:VCALENDAR